BEGIN:VCALENDAR
VERSION:2.0
PRODID:-//Cold Spring Harbor Fish Hatchery & Aquiarium - ECPv4.6.9//NONSGML v1.0//EN
CALSCALE:GREGORIAN
METHOD:PUBLISH
X-WR-CALNAME:Cold Spring Harbor Fish Hatchery & Aquiarium
X-ORIGINAL-URL:http://cshfishhatchery.org
X-WR-CALDESC:Events for Cold Spring Harbor Fish Hatchery & Aquiarium
BEGIN:VEVENT
DTSTART;TZID=UTC+0:20261024T140000
DTEND;TZID=UTC+0:20261024T170000
DTSTAMP:20260419T134127
CREATED:20251209T222235Z
LAST-MODIFIED:20251209T222235Z
UID:5296-1792850400-1792861200@cshfishhatchery.org
SUMMARY:Haunted Hatchery
DESCRIPTION:
URL:http://cshfishhatchery.org/event/haunted-hatchery/
ATTACH;FMTTYPE=image/jpeg:http://cshfishhatchery.org/wp-content/uploads/2025/12/Haunted-Hatchery-2026.jpg
END:VEVENT
END:VCALENDAR